BEGIN:VCALENDAR
VERSION:2.0
PRODID:-//Visit Angel Fire New Mexico - ECPv6.15.17.1//NONSGML v1.0//EN
CALSCALE:GREGORIAN
METHOD:PUBLISH
X-WR-CALNAME:Visit Angel Fire New Mexico
X-ORIGINAL-URL:https://visitangelfirenm.com
X-WR-CALDESC:Events for Visit Angel Fire New Mexico
REFRESH-INTERVAL;VALUE=DURATION:PT1H
X-Robots-Tag:noindex
X-PUBLISHED-TTL:PT1H
BEGIN:VTIMEZONE
TZID:America/Denver
BEGIN:DAYLIGHT
TZOFFSETFROM:-0700
TZOFFSETTO:-0600
TZNAME:MDT
DTSTART:20230312T090000
END:DAYLIGHT
BEGIN:STANDARD
TZOFFSETFROM:-0600
TZOFFSETTO:-0700
TZNAME:MST
DTSTART:20231105T080000
END:STANDARD
BEGIN:DAYLIGHT
TZOFFSETFROM:-0700
TZOFFSETTO:-0600
TZNAME:MDT
DTSTART:20240310T090000
END:DAYLIGHT
BEGIN:STANDARD
TZOFFSETFROM:-0600
TZOFFSETTO:-0700
TZNAME:MST
DTSTART:20241103T080000
END:STANDARD
BEGIN:DAYLIGHT
TZOFFSETFROM:-0700
TZOFFSETTO:-0600
TZNAME:MDT
DTSTART:20250309T090000
END:DAYLIGHT
BEGIN:STANDARD
TZOFFSETFROM:-0600
TZOFFSETTO:-0700
TZNAME:MST
DTSTART:20251102T080000
END:STANDARD
BEGIN:DAYLIGHT
TZOFFSETFROM:-0700
TZOFFSETTO:-0600
TZNAME:MDT
DTSTART:20260308T090000
END:DAYLIGHT
BEGIN:STANDARD
TZOFFSETFROM:-0600
TZOFFSETTO:-0700
TZNAME:MST
DTSTART:20261101T080000
END:STANDARD
END:VTIMEZONE
BEGIN:VEVENT
DTSTART;TZID=America/Denver:20250830T083000
DTEND;TZID=America/Denver:20250830T143000
DTSTAMP:20260422T161357
CREATED:20250218T182212Z
LAST-MODIFIED:20250218T182300Z
UID:10000859-1756542600-1756564200@visitangelfirenm.com
SUMMARY:2025 Veterans Memorial Walkway Brick Installation
DESCRIPTION:For over 15 years\, Run for The Wall (RFTW) has helped honor veterans and active military (living or deceased) by laying over 7\,000 bricks along the Veterans Memorial Walkway. This year\, 500 additional bricks will be installed to continue this tradition of tribute. \n  \nWhen: Saturday\, August 30 from 8:30AM – 3PM \n\n8:30 AM – Opening Ceremony and commencement of brick installation\n2:30 PM (approx.) – Final brick laid\n\nIf you’d like to help RFTW with staging the bricks\, please arrive around 7:00-7:30 AM. \nWhere: Vietnam Veterans Memorial | 34 Country Club Road \nIf you have purchased a brick and would like to personally carry it to be laid\, check with RFTW officials on the day of the event for an estimated time. \nParking:This event tends to attract a large crowd\, so please follow the directions of Memorial parking officials. Note: Currently\, there is limited space for large RVs or trailers to park or turn around at the Memorial.
URL:https://visitangelfirenm.com/event/2025-veterans-memorial-walkway-brick-installation/
LOCATION:Vietnam Veterans Memorial\, 34 Country Club Road\, Anel Fire\, NM\, 87710\, United States
CATEGORIES:Vietnam Veterans Memorial
ATTACH;FMTTYPE=image/jpeg:https://visitangelfirenm.com/app/uploads/2025/02/830_bricks2.jpg
ORGANIZER;CN="David Westphall Veterans Foundation":MAILTO:info@vietnamveteransmemorial.org
END:VEVENT
BEGIN:VEVENT
DTSTART;TZID=America/Denver:20250614T090000
DTEND;TZID=America/Denver:20250614T100000
DTSTAMP:20260422T161357
CREATED:20250218T171551Z
LAST-MODIFIED:20250218T171551Z
UID:10000851-1749891600-1749895200@visitangelfirenm.com
SUMMARY:Flag Retirement Ceremony 2024
DESCRIPTION:A flag retirement ceremony is a solemn and dignified event held to respectfully dispose of old\, worn\, or damaged American flags. It’s a way to honor the symbolism and significance of the flag by properly retiring it from service. \nDuring the ceremony\, the flag is typically cut into smaller pieces\, usually by ceremonial scissors or a knife\, with each stripe and star being separated. These pieces are then carefully placed into a fire\, often accompanied by a moment of silence or a recitation of patriotic verses. The fire burns until the flag is completely consumed\, and the ashes are then collected and buried in a respectful manner. \nFlag retirement ceremonies are often conducted by veterans’ organizations\, scout groups\, or other community organizations as a way to pay tribute to the flag’s symbolism and demonstrate reverence for its proper disposal. \n  \nWhen: Saturday\, June 14th from 9-10AM \nWhere: Vietnam Veterans Memorial | 34 Country Club Road \n  \nParticipating in a flag retirement ceremony is a meaningful way to show respect for the American flag and all it represents. By honoring this tradition\, we preserve the dignity of the flag’s service and reinforce our commitment to the values it embodies.  See you there! \n  \nFlag Day\n  \n 
URL:https://visitangelfirenm.com/event/flag-retirement-ceremony-2024-2/
LOCATION:Vietnam Veterans Memorial\, 34 Country Club Road\, Anel Fire\, NM\, 87710\, United States
ATTACH;FMTTYPE=image/jpeg:https://visitangelfirenm.com/app/uploads/2025/02/614_CLFH-Flag-Retirement.jpeg
ORGANIZER;CN="David Westphall Veterans Foundation":MAILTO:info@vietnamveteransmemorial.org
END:VEVENT
BEGIN:VEVENT
DTSTART;TZID=America/Denver:20250525T180000
DTEND;TZID=America/Denver:20250525T190000
DTSTAMP:20260422T161357
CREATED:20250218T162151Z
LAST-MODIFIED:20250218T162510Z
UID:10000847-1748196000-1748199600@visitangelfirenm.com
SUMMARY:Remembrance Vigil 2025
DESCRIPTION:Join us at the Vietnam Veterans Memorial for a solemn remembrance vigil on the eve of Memorial Day\, taking place at 6:00 PM on Sunday\, May 25th. This event offers an opportunity for families and friends of departed Veterans to come together to remember\, reflect\, and find solace in their memories. \nThe Ceremony highlights include: \n\n44th Army Ensemble Band performance\nThe Woman Veterans Warriors Color Guard\nMissing Man Table by Victor Flores\nFlag Presentation by the Vietnam Vets Legacy Vets Motorcycle Club\nPresentation by Gold Star Mothers of America Inc. Member Pat Merville\n“Those who Came Before Us” Presentation by the Woman Veteran Warriors Color Guard
URL:https://visitangelfirenm.com/event/4024/
LOCATION:Vietnam Veterans Memorial\, 34 Country Club Road\, Anel Fire\, NM\, 87710\, United States
ATTACH;FMTTYPE=image/jpeg:https://visitangelfirenm.com/app/uploads/2025/01/AngelFireSummer2024-307-1.jpg
ORGANIZER;CN="David Westphall Veterans Foundation":MAILTO:info@vietnamveteransmemorial.org
END:VEVENT
BEGIN:VEVENT
DTSTART;TZID=America/Denver:20250525T150000
DTEND;TZID=America/Denver:20250525T160000
DTSTAMP:20260422T161357
CREATED:20250218T161856Z
LAST-MODIFIED:20250218T161946Z
UID:10000846-1748185200-1748188800@visitangelfirenm.com
SUMMARY:David Westphall Veterans Foundation Annual Board Meeting
DESCRIPTION:Join us for the annual board meeting on May 25\, 2025\, at 3:00 PM in the Vietnam Veterans Memorial Conference Room. \nThis meeting is open to both board members and the public.
URL:https://visitangelfirenm.com/event/david-westphall-veterans-foundation-annual-board-meeting/
LOCATION:Vietnam Veterans Memorial\, 34 Country Club Road\, Anel Fire\, NM\, 87710\, United States
CATEGORIES:Vietnam Veterans Memorial
ORGANIZER;CN="David Westphall Veterans Foundation":MAILTO:info@vietnamveteransmemorial.org
END:VEVENT
BEGIN:VEVENT
DTSTART;TZID=America/Denver:20240614T090000
DTEND;TZID=America/Denver:20240614T103000
DTSTAMP:20260422T161357
CREATED:20240511T225554Z
LAST-MODIFIED:20240511T225554Z
UID:10000458-1718355600-1718361000@visitangelfirenm.com
SUMMARY:Flag Retirement Ceremony 2024
DESCRIPTION:A flag retirement ceremony is a solemn and dignified event held to respectfully dispose of old\, worn\, or damaged American flags. It’s a way to honor the symbolism and significance of the flag by properly retiring it from service. \nDuring the ceremony\, the flag is typically cut into smaller pieces\, usually by ceremonial scissors or a knife\, with each stripe and star being separated. These pieces are then carefully placed into a fire\, often accompanied by a moment of silence or a recitation of patriotic verses. The fire burns until the flag is completely consumed\, and the ashes are then collected and buried in a respectful manner. \nFlag retirement ceremonies are often conducted by veterans’ organizations\, scout groups\, or other community organizations as a way to pay tribute to the flag’s symbolism and demonstrate reverence for its proper disposal. \n  \nWhen: 9 AM \nWhere: Vietnam Veterans Memorial \n  \nPhoto Credit: David Westphall Veterans Foundation
URL:https://visitangelfirenm.com/event/flag-retirement-ceremony-2024/
LOCATION:Vietnam Veterans Memorial\, 34 Country Club Road\, Anel Fire\, NM\, 87710\, United States
ATTACH;FMTTYPE=image/jpeg:https://visitangelfirenm.com/app/uploads/2024/12/EVENT_David-Westfals_Flag-Retirement-Event-Photo1_web.jpg
ORGANIZER;CN="David Westphall Veterans Foundation":MAILTO:info@vietnamveteransmemorial.org
END:VEVENT
END:VCALENDAR