BEGIN:VCALENDAR
VERSION:2.0
PRODID:-//Visit Angel Fire New Mexico - ECPv6.15.17.1//NONSGML v1.0//EN
CALSCALE:GREGORIAN
METHOD:PUBLISH
X-WR-CALNAME:Visit Angel Fire New Mexico
X-ORIGINAL-URL:https://visitangelfirenm.com
X-WR-CALDESC:Events for Visit Angel Fire New Mexico
REFRESH-INTERVAL;VALUE=DURATION:PT1H
X-Robots-Tag:noindex
X-PUBLISHED-TTL:PT1H
BEGIN:VTIMEZONE
TZID:America/Denver
BEGIN:DAYLIGHT
TZOFFSETFROM:-0700
TZOFFSETTO:-0600
TZNAME:MDT
DTSTART:20240310T090000
END:DAYLIGHT
BEGIN:STANDARD
TZOFFSETFROM:-0600
TZOFFSETTO:-0700
TZNAME:MST
DTSTART:20241103T080000
END:STANDARD
BEGIN:DAYLIGHT
TZOFFSETFROM:-0700
TZOFFSETTO:-0600
TZNAME:MDT
DTSTART:20250309T090000
END:DAYLIGHT
BEGIN:STANDARD
TZOFFSETFROM:-0600
TZOFFSETTO:-0700
TZNAME:MST
DTSTART:20251102T080000
END:STANDARD
BEGIN:DAYLIGHT
TZOFFSETFROM:-0700
TZOFFSETTO:-0600
TZNAME:MDT
DTSTART:20260308T090000
END:DAYLIGHT
BEGIN:STANDARD
TZOFFSETFROM:-0600
TZOFFSETTO:-0700
TZNAME:MST
DTSTART:20261101T080000
END:STANDARD
END:VTIMEZONE
BEGIN:VEVENT
DTSTART;TZID=America/Denver:20250111T180000
DTEND;TZID=America/Denver:20250111T220000
DTSTAMP:20260420T155158
CREATED:20250108T042435Z
LAST-MODIFIED:20250108T042435Z
UID:10000803-1736618400-1736632800@visitangelfirenm.com
SUMMARY:Open House @ Black Lake Social Club
DESCRIPTION:Come join us for a fun and welcoming Open House at the Black Lake Social Club! \nWhether you’re a longtime neighbor or new to the area\, we invite you to enjoy a night of good food\, great company\, and the chance to learn more about our community. \nBYOB and bring a dish to share at our potluck—it’s a relaxed evening where everyone is welcome! You don’t have to live in Black Lake to attend—BLSC is not an exclusive organization\, and anyone interested is invited to join. \n  \nWhen: Saturday\, January 11th from 6-8PM \nWhere: The former Ritchie-Slater Winery | 10 County Rd. B3 (Osha Rd) \n  \nFor more information\, feel free to contact us at blacklakesocialclub@outlook.com. \nWe look forward to seeing you there!
URL:https://visitangelfirenm.com/event/open-house-black-lake-social-club/
LOCATION:Black Lake Social Club\, 10 County Rd. B3\, Angel Fire\, NM\, 87710\, United States
CATEGORIES:Live Music
ATTACH;FMTTYPE=image/jpeg:https://visitangelfirenm.com/app/uploads/2025/02/Black-Lake-Social-Club.jpg
ORGANIZER;CN="Black Lake Social Club":MAILTO:blacklakesocialclub@LIVE.com
END:VEVENT
END:VCALENDAR